BEGIN:VCALENDAR
VERSION:2.0
PRODID:Events Booking
BEGIN:VEVENT
UID:69ed54d5bb43b
SUMMARY:New Hampshire Audubon Massabesic Center
DESCRIPTION:Please join us for a guided nature hike with a New Hampshire Au
 dubon Educator!
  
 When registering please indicate if your child woul
 d like to be in the younger or older group. The younger group will have a 
 shorter walk (for little legs!) Each walk will be one hour.
  
 Weather
  permitting (6 inches of snow on the ground) we will be on snow shoes that
  will be provided by the nature center. Feel free to bring your own.
  
 
 Please be sure to dress for the weather (snow pants\, boots\, hats mitte
 ns\, etc.) I will send out an email the day before this event with anticip
 ated conditions. 
  
 The Massabesic Center will be open at 11am on th
 e day of our visit. There are exhibits you can feel free to explore after 
 our walk.
LOCATION:26 Audubon Way\, Auburn NH 03032
DTSTART:20260211T150000Z
DTEND:20260211T160000Z
DTSTAMP:20260113T203028Z
ORGANIZER;CN=WHE Administrator:MAILTO:Admin@wearehomeeducators.com
GEO:42.983602;-71.364777
X-APPLE-STRUCTURED-LOCATION;VALUE=URI;X-ADDRESS=26 Audubon Way\, Auburn NH 
 03032;X-APPLE-RADIUS=72;X-TITLE=New Hampshire Audubon Massabesic Center:42
 .983602;-71.364777
END:VEVENT
END:VCALENDAR